﻿BEGIN:VCALENDAR
VERSION:2.0
PRODID:-//Ficob - ECPv6.15.17//NONSGML v1.0//EN
CALSCALE:GREGORIAN
METHOD:PUBLISH
X-ORIGINAL-URL:https://ficob.com.br
X-WR-CALDESC:Eventos para Ficob
REFRESH-INTERVAL;VALUE=DURATION:PT1H
X-Robots-Tag:noindex
X-PUBLISHED-TTL:PT1H
BEGIN:VTIMEZONE
TZID:UTC
BEGIN:STANDARD
TZOFFSETFROM:+0000
TZOFFSETTO:+0000
TZNAME:UTC
DTSTART:20250101T000000
END:STANDARD
END:VTIMEZONE
BEGIN:VEVENT
DTSTART;TZID=UTC:20261029T080000
DTEND;TZID=UTC:20261029T110000
DTSTAMP:20260426T010234
CREATED:20190708T111441Z
LAST-MODIFIED:20260302T191949Z
UID:356-1793260800-1793271600@ficob.com.br
SUMMARY:Cultural – Teatro
DESCRIPTION:Oficina artística com foco em expressão corporal\, criatividade e construção coletiva de cenas teatrais\, estimulando habilidades socioemocionais e comunicação. \nResponsável: Francineia – CJCC (aguardando confirmação)
URL:https://ficob.com.br/event/pinners-conference/
LOCATION:Sala PU03\, UFOB Predio 1\, Barreiras\, Bahia\, 47802436\, Brazil
CATEGORIES:Exhibitions
ATTACH;FMTTYPE=image/png:https://ficob.com.br/wp-content/uploads/2019/07/ChatGPT-Image-2-mar-2026-16_19_21.png
ORGANIZER;CN="FICOB":MAILTO:b@b.com
END:VEVENT
END:VCALENDAR